Workbook

Sheet Dane - Faktury EUR
A1: Dokument | B1: Data | C1: EUR | D1: Waluta | E1: PLN
A2: FSE-12/1/M | B2: 40918 | C2: 4492.8 | D2: EUR | E2: 20173.57
A3: FSE-12/8/M | B3: 40935 | C3: 4091.88 | D3: EUR | E3: 17362.26
A4: FSE-12/10/M | B4: 40935 | C4: 4560.15 | D4: EUR | E4: 19349.17
A5: FSE-12/1/JM | B5: 40945 | C5: 3138.1 | D5: EUR | E5: 13158.68
A6: FSE-12/2/JM | B6: 40953 | C6: 4553.01 | D6: EUR | E6: 19098.97
A7: FSE-12/3/JM | B7: 40953 | C7: 6500.74 | D7: EUR | E7: 27269.3
A8: FSE-12/4/JM | B8: 40953 | C8: 9720 | D8: EUR | E8: 40773.46
A9: FSE-12/5/JM | B9: 40959 | C9: 2889.22 | D9: EUR | E9: 12088.5
A10: FSE-12/7/JM | B10: 40966 | C10: 3240 | D10: EUR | E10: 13495.9
A11: FSE-12/8/JM | B11: 40966 | C11: 8802.49 | D11: EUR | E11: 36665.89
A12: FSE-12/11/M | B12: 40940 | C12: 3957.72 | D12: EUR | E12: 16729.28
A13: FSE-12/12/M | B13: 40940 | C13: 18020.92 | D13: EUR | E13: 76174.43
... A281: FSE-12/329/M | B281: 41264 | C281: 6885.61 | D281: EUR | E281: 28034.76

Sheet Dane - Faktury USD
A1: Dokument | B1: Data | C1: USD | D1: Waluta | E1: PLN
A2: FSE-12/4/M | B2: 40932 | C2: 40199.25 | D2: USD | E2: 134076.56
A3: FSE-12/6/JM | B3: 40962 | C3: 782.88 | D3: USD | E3: 2476.64
A4: FSE-12/15/M | B4: 40942 | C4: 26365.5 | D4: USD | E4: 84250.96
A5: FSE-12/32/M | B5: 40963 | C5: 10783.87 | D5: USD | E5: 33839.78
A6: FSE-12/40/M | B6: 40969 | C6: 47685.75 | D6: USD | E6: 146538.31
A7: FSE-12/42/M | B7: 40970 | C7: 9435.89 | D7: USD | E7: 29144.63
A8: FSE-12/47/M | B8: 40980 | C8: 10783.87 | D8: USD | E8: 33565.87
A9: FSE-12/55/M | B9: 40988 | C9: 10783.87 | D9: USD | E9: 33819.29
A10: FSE-12/57/M | B10: 40989 | C10: 37595.25 | D10: USD | E10: 117628.02
A11: FSE-12/64/M | B11: 40997 | C11: 10783.87 | D11: USD | E11: 33537.84
A12: FSE-12/15/JM | B12: 41016 | C12: 3518.72 | D12: USD | E12: 11361.6
A13: FSE-12/71/M | B13: 41004 | C13: 26365.5 | D13: USD | E13: 83059.23
... A71: FSE-12/327/M | B71: 41264 | C71: 11229.75 | D71: USD | E71: 34552.82

Sheet etap1 - tabela - www.nbp.pl
A1: Data | B1: 1 THB | C1: 1 USD | D1: 1 AUD | E1: 1 HKD | F1: 1 CAD | G1: 1 NZD | H1: 1 SGD | I1: 1 EUR | J1: 100 HUF | K1: 1 CHF | L1: 1 GBP | M1: 1 UAH | N1: 100 JPY | O1: 1 CZK | P1: 1 DKK | Q1: 100 ISK | R1: 1 NOK | S1: 1 SEK | T1: 1 HRK | U1: 1 RON | V1: 1 BGN | W1: 1 TRY | X1: 1 LTL | Y1: 1 LVL | Z1: 1 ILS | AA1: 100 CLP | AB1: 1 PHP | AC1: 1 MXN | AD1: 1 ZAR | AE1: 1 BRL | AF1: 1 MYR | AG1: 1 RUB | AH1: 10000 IDR | AI1: 100 INR | AJ1: 100 KRW | AK1: 1 CNY | AL1: 1 XDR | AM1: Nr tabeli | AN1: Pełny numer tabeli
A2: 40910 | B2: 0.1095 | C2: 3.4454 | D2: 3.5229 | E2: 0.4437 | F2: 3.3799 | G2: 2.6816 | H2: 2.656 | I2: 4.464 | J2: 1.4161 | K2: 3.6668 | L2: 5.348 | M2: 0.43 | N2: 4.4786 | O2: 0.1751 | P2: 0.6006 | Q2: 2.8129 | R2: 0.5759 | S2: 0.5006 | T2: 0.5925 | U2: 1.0334 | V2: 2.2824 | W2: 1.8343 | X2: 1.2928 | Y2: 6.3831 | Z2: 0.9041 | AA2: 0.6632 | AB2: 0.0784 | AC2: 0.2473 | AD2: 0.4265 | AE2: 1.8495 | AF2: 1.0863 | AG2: 0.1071 | AH2: 3.7935 | AI2: 6.4793 | AJ2: 0.2981 | AK2: 0.5475 | AL2: 5.2967 | AM2: 1 | AN2: 001/A/NBP/2012
A3: 40911 | B3: 0.1091 | C3: 3.4277 | D3: 3.5345 | E3: 0.4412 | F3: 3.3786 | G3: 2.6964 | H3: 2.6621 | I3: 4.4597 | J3: 1.4155 | K3: 3.6622 | L3: 5.3394 | M3: 0.4296 | N3: 4.4601 | O3: 0.1748 | P3: 0.5998 | Q3: 2.8061 | R3: 0.5765 | S3: 0.5008 | T3: 0.5917 | U3: 1.029 | V3: 2.2802 | W3: 1.815 | X3: 1.2916 | Y3: 6.3787 | Z3: 0.9002 | AA3: 0.6612 | AB3: 0.0783 | AC3: 0.2478 | AD3: 0.4239 | AE3: 1.8324 | AF3: 1.0886 | AG3: 0.1078 | AH3: 3.7898 | AI3: 6.4376 | AJ3: 0.298 | AK3: 0.5446 | AL3: 5.2916 | AM3: 2 | AN3: 002/A/NBP/2012
A4: 40912 | B4: 0.1091 | C4: 3.432 | D4: 3.5528 | E4: 0.4418 | F4: 3.3887 | G4: 2.7084 | H4: 2.6687 | I4: 4.4753 | J4: 1.4009 | K4: 3.6714 | L4: 5.3712 | M4: 0.4262 | N4: 4.4787 | O4: 0.1738 | P4: 0.6018 | Q4: 2.8147 | R4: 0.5805 | S4: 0.5037 | T4: 0.5933 | U4: 1.0351 | V4: 2.2882 | W4: 1.8383 | X4: 1.2961 | Y4: 6.4038 | Z4: 0.8918 | AA4: 0.6694 | AB4: 0.0784 | AC4: 0.2514 | AD4: 0.425 | AE4: 1.8755 | AF4: 1.0947 | AG4: 0.1084 | AH4: 3.7576 | AI4: 6.4707 | AJ4: 0.2986 | AK4: 0.5453 | AL4: 5.3059 | AM4: 3 | AN4: 003/A/NBP/2012
A5: 40913 | B5: 0.1111 | C5: 3.5081 | D5: 3.602 | E5: 0.4518 | F5: 3.4449 | G5: 2.7447 | H5: 2.7145 | I5: 4.5135 | J5: 1.402 | K5: 3.7037 | L5: 5.4616 | M5: 0.4361 | N5: 4.5679 | O5: 0.1742 | P5: 0.607 | Q5: 2.8515 | R5: 0.5874 | S5: 0.5098 | T5: 0.5992 | U5: 1.0399 | V5: 2.3078 | W5: 1.8627 | X5: 1.3072 | Y5: 6.4612 | Z5: 0.9132 | AA5: 0.687 | AB5: 0.0797 | AC5: 0.2554 | AD5: 0.4273 | AE5: 1.9142 | AF5: 1.114 | AG5: 0.1099 | AH5: 3.7897 | AI5: 6.6349 | AJ5: 0.3037 | AK5: 0.5566 | AL5: 5.3671 | AM5: 4 | AN5: 004/A/NBP/2012
A6: 40917 | B6: 0.1106 | C6: 3.515 | D6: 3.5949 | E6: 0.4526 | F6: 3.4201 | G6: 2.7599 | H6: 2.7081 | I6: 4.4902 | J6: 1.4302 | K6: 3.694 | L6: 5.4269 | M6: 0.436 | N6: 4.5727 | O6: 0.174 | P6: 0.6038 | Q6: 2.8398 | R6: 0.5854 | S6: 0.5079 | T6: 0.596 | U6: 1.0321 | V6: 2.2958 | W6: 1.8769 | X6: 1.3004 | Y6: 6.4353 | Z6: 0.9163 | AA6: 0.688 | AB6: 0.0797 | AC6: 0.2562 | AD6: 0.4313 | AE6: 1.8918 | AF6: 1.1145 | AG6: 0.1103 | AH6: 3.8775 | AI6: 6.6851 | AJ6: 0.3027 | AK6: 0.5566 | AL6: 5.3777 | AM6: 5 | AN6: 005/A/NBP/2012
A7: 40918 | B7: 0.1109 | C7: 3.5083 | D7: 3.6206 | E7: 0.4517 | F7: 3.4429 | G7: 2.7864 | H7: 2.722 | I7: 4.4883 | J7: 1.4292 | K7: 3.7015 | L7: 5.4328 | M7: 0.4364 | N7: 4.5659 | O7: 0.1738 | P7: 0.6035 | Q7: 2.8372 | R7: 0.5853 | S7: 0.5085 | T7: 0.5959 | U7: 1.0282 | V7: 2.2949 | W7: 1.8711 | X7: 1.2999 | Y7: 6.4302 | Z7: 0.9162 | AA7: 0.6836 | AB7: 0.0797 | AC7: 0.2573 | AD7: 0.4316 | AE7: 1.9148 | AF7: 1.1182 | AG7: 0.1106 | AH7: 3.8493 | AI7: 6.7325 | AJ7: 0.3035 | AK7: 0.5556 | AL7: 5.3917 | AM7: 6 | AN7: 006/A/NBP/2012
A8: 40919 | B8: 0.1102 | C8: 3.4919 | D8: 3.6053 | E8: 0.4495 | F8: 3.443 | G8: 2.7801 | H8: 2.7042 | I8: 4.4645 | J8: 1.4358 | K8: 3.6807 | L8: 5.4027 | M8: 0.4342 | N8: 4.5396 | O8: 0.1733 | P8: 0.6003 | Q8: 2.8169 | R8: 0.5834 | S8: 0.5068 | T8: 0.5922 | U8: 1.0228 | V8: 2.2827 | W8: 1.8754 | X8: 1.293 | Y8: 6.3943 | Z8: 0.9098 | AA8: 0.687 | AB8: 0.0794 | AC8: 0.2567 | AD8: 0.4311 | AE8: 1.9408 | AF8: 1.1124 | AG8: 0.1104 | AH8: 3.8183 | AI8: 6.7633 | AJ8: 0.3017 | AK8: 0.553 | AL8: 5.3299 | AM8: 7 | AN8: 007/A/NBP/2012
A9: 40920 | B9: 0.1099 | C9: 3.4945 | D9: 3.6083 | E9: 0.4497 | F9: 3.4357 | G9: 2.7832 | H9: 2.7029 | I9: 4.4532 | J9: 1.4361 | K9: 3.6756 | L9: 5.3576 | M9: 0.4357 | N9: 4.5397 | O9: 0.1733 | P9: 0.5988 | Q9: 2.8023 | R9: 0.5801 | S9: 0.5038 | T9: 0.5906 | U9: 1.0249 | V9: 2.2769 | W9: 1.8881 | X9: 1.2897 | Y9: 6.3713 | Z9: 0.9095 | AA9: 0.6901 | AB9: 0.0793 | AC9: 0.2573 | AD9: 0.4334 | AE9: 1.9368 | AF9: 1.112 | AG9: 0.1104 | AH9: 3.8127 | AI9: 6.7555 | AJ9: 0.3022 | AK9: 0.5527 | AL9: 5.3405 | AM9: 8 | AN9: 008/A/NBP/2012
A10: 40921 | B10: 0.1082 | C10: 3.4323 | D10: 3.5555 | E10: 0.4419 | F10: 3.3747 | G10: 2.7283 | H10: 2.6646 | I10: 4.404 | J10: 1.424 | K10: 3.6376 | L10: 5.2711 | M10: 0.4267 | N10: 4.4752 | O10: 0.1724 | P10: 0.5922 | Q10: 2.7655 | R10: 0.5717 | S10: 0.4956 | T10: 0.5831 | U10: 1.0165 | V10: 2.2518 | W10: 1.8524 | X10: 1.2754 | Y10: 6.286 | Z10: 0.8954 | AA10: 0.6864 | AB10: 0.0785 | AC10: 0.2535 | AD10: 0.4262 | AE10: 1.9294 | AF10: 1.0951 | AG10: 0.1084 | AH10: 3.7505 | AI10: 6.6791 | AJ10: 0.299 | AK10: 0.5443 | AL10: 5.2817 | AM10: 9 | AN10: 009/A/NBP/2012
A11: 40924 | B11: 0.1092 | C11: 3.4798 | D11: 3.5851 | E11: 0.4483 | F11: 3.4104 | G11: 2.7622 | H11: 2.6937 | I11: 4.4056 | J11: 1.42 | K11: 3.6443 | L11: 5.3324 | M11: 0.4323 | N11: 4.5306 | O11: 0.1721 | P11: 0.5925 | Q11: 2.772 | R11: 0.5742 | S11: 0.497 | T11: 0.5834 | U11: 1.0172 | V11: 2.2526 | W11: 1.8766 | X11: 1.2759 | Y11: 6.2978 | Z11: 0.9037 | AA11: 0.6909 | AB11: 0.0793 | AC11: 0.2562 | AD11: 0.4276 | AE11: 1.9492 | AF11: 1.1082 | AG11: 0.1092 | AH11: 3.8251 | AI11: 6.7444 | AJ11: 0.3019 | AK11: 0.5508 | AL11: 5.2728 | AM11: 10 | AN11: 010/A/NBP/2012
A12: 40925 | B12: 0.1078 | C12: 3.4215 | D12: 3.5693 | E12: 0.44 | F12: 3.3788 | G12: 2.7427 | H12: 2.6645 | I12: 4.3708 | J12: 1.4063 | K12: 3.6136 | L12: 5.2584 | M12: 0.4253 | N12: 4.4607 | O12: 0.1709 | P12: 0.5878 | Q12: 2.742 | R12: 0.5701 | S12: 0.4944 | T12: 0.5785 | U12: 1.0109 | V12: 2.2348 | W12: 1.8599 | X12: 1.2658 | Y12: 6.2444 | Z12: 0.8919 | AA12: 0.684 | AB12: 0.0783 | AC12: 0.254 | AD12: 0.4269 | AE12: 1.9135 | AF12: 1.094 | AG12: 0.1085 | AH12: 3.7949 | AI12: 6.7242 | AJ12: 0.2993 | AK12: 0.5413 | AL12: 5.2312 | AM12: 11 | AN12: 011/A/NBP/2012
A13: 40926 | B13: 0.107 | C13: 3.4 | D13: 3.5311 | E13: 0.4379 | F13: 3.352 | G13: 2.7306 | H13: 2.654 | I13: 4.3491 | J13: 1.4183 | K13: 3.5959 | L13: 5.2241 | M13: 0.4227 | N13: 4.4288 | O13: 0.1703 | P13: 0.5849 | Q13: 2.725 | R13: 0.5655 | S13: 0.4934 | T13: 0.5757 | U13: 1.0006 | V13: 2.2237 | W13: 1.8478 | X13: 1.2596 | Y13: 6.2126 | Z13: 0.891 | AA13: 0.6829 | AB13: 0.0783 | AC13: 0.2534 | AD13: 0.4237 | AE13: 1.9012 | AF13: 1.0901 | AG13: 0.1077 | AH13: 3.7589 | AI13: 6.7078 | AJ13: 0.2979 | AK13: 0.5386 | AL13: 5.1971 | AM13: 12 | AN13: 012/A/NBP/2012
... A253: 41274 | B253: 0.1013 | C253: 3.0996 | D253: 3.2183 | E253: 0.3999 | F253: 3.1172 | G253: 2.5488 | H253: 2.5378 | I253: 4.0882 | J253: 1.3977 | K253: 3.3868 | L253: 5.0119 | M253: 0.3825 | N253: 3.6005 | O253: 0.163 | P253: 0.548 | Q253: 2.3992 | R253: 0.5552 | S253: 0.4757 | T253: 0.5413 | U253: 0.9197 | V253: 2.0903 | W253: 1.7357 | X253: 1.184 | Y253: 5.8595 | Z253: 0.8303 | AA253: 0.6474 | AB253: 0.0756 | AC253: 0.238 | AD253: 0.3651 | AE253: 1.5138 | AF253: 1.0136 | AG253: 0.1017 | AH253: 3.1765 | AI253: 5.6681 | AJ253: 0.2914 | AK253: 0.4975 | AL253: 4.7662 | AM253: 252 | AN253: 252/A/NBP/2012

Sheet etap2 - kursy bez luk
A1: oryginalna tabela NBP z lukami | F1: Budowanie tabeli technicznej do wyceny
A2: Data | B2: 1 USD | C2: 1 EUR | F2: Data | G2: 1 USD | H2: 1 EUR
A3: 40910 | B3: 3.4454 | C3: 4.464 | F3: 40909 | G3: - | H3: -
A4: 40911 | B4: 3.4277 | C4: 4.4597 | F4: 40910 | G4: - | H4: -
A5: 40912 | B5: 3.432 | C5: 4.4753 | F5: 40911 | G5: =VLOOKUP(F4,$A$3:$C$254,2,1) -> 3.4454 | H5: =VLOOKUP(F4,$A$3:$C$254,3,1) -> 4.464
A6: 40913 | B6: 3.5081 | C6: 4.5135 | F6: 40912 | G6: =VLOOKUP(F5,$A$3:$C$254,2,1) -> 3.4277 | H6: =VLOOKUP(F5,$A$3:$C$254,3,1) -> 4.4597
A7: 40917 | B7: 3.515 | C7: 4.4902 | F7: 40913 | G7: =VLOOKUP(F6,$A$3:$C$254,2,1) -> 3.432 | H7: =VLOOKUP(F6,$A$3:$C$254,3,1) -> 4.4753
A8: 40918 | B8: 3.5083 | C8: 4.4883 | F8: 40914 | G8: =VLOOKUP(F7,$A$3:$C$254,2,1) -> 3.5081 | H8: =VLOOKUP(F7,$A$3:$C$254,3,1) -> 4.5135
A9: 40919 | B9: 3.4919 | C9: 4.4645 | F9: 40915 | G9: =VLOOKUP(F8,$A$3:$C$254,2,1) -> 3.5081 | H9: =VLOOKUP(F8,$A$3:$C$254,3,1) -> 4.5135
A10: 40920 | B10: 3.4945 | C10: 4.4532 | F10: 40916 | G10: =VLOOKUP(F9,$A$3:$C$254,2,1) -> 3.5081 | H10: =VLOOKUP(F9,$A$3:$C$254,3,1) -> 4.5135
A11: 40921 | B11: 3.4323 | C11: 4.404 | F11: 40917 | G11: =VLOOKUP(F10,$A$3:$C$254,2,1) -> 3.5081 | H11: =VLOOKUP(F10,$A$3:$C$254,3,1) -> 4.5135
A12: 40924 | B12: 3.4798 | C12: 4.4056 | F12: 40918 | G12: =VLOOKUP(F11,$A$3:$C$254,2,1) -> 3.515 | H12: =VLOOKUP(F11,$A$3:$C$254,3,1) -> 4.4902
A13: 40925 | B13: 3.4215 | C13: 4.3708 | F13: 40919 | G13: =VLOOKUP(F12,$A$3:$C$254,2,1) -> 3.5083 | H13: =VLOOKUP(F12,$A$3:$C$254,3,1) -> 4.4883
A14: 40926 | B14: 3.4 | C14: 4.3491 | F14: 40920 | G14: =VLOOKUP(F13,$A$3:$C$254,2,1) -> 3.4919 | H14: =VLOOKUP(F13,$A$3:$C$254,3,1) -> 4.4645
A15: 40927 | B15: 3.3678 | C15: 4.3391 | F15: 40921 | G15: =VLOOKUP(F14,$A$3:$C$254,2,1) -> 3.4945 | H15: =VLOOKUP(F14,$A$3:$C$254,3,1) -> 4.4532
A16: 40928 | B16: 3.3537 | C16: 4.326 | F16: 40922 | G16: =VLOOKUP(F15,$A$3:$C$254,2,1) -> 3.4323 | H16: =VLOOKUP(F15,$A$3:$C$254,3,1) -> 4.404
... A254: 41274 | B254: 3.0996 | C254: 4.0882 | F254: 41160 | G254: =VLOOKUP(F253,$A$3:$C$254,2,1) -> 3.2578 | H254: =VLOOKUP(F253,$A$3:$C$254,3,1) -> 4.1275
F255: 41161 | G255: =VLOOKUP(F254,$A$3:$C$254,2,1) -> 3.2578 | H255: =VLOOKUP(F254,$A$3:$C$254,3,1) -> 4.1275
F256: 41162 | G256: =VLOOKUP(F255,$A$3:$C$254,2,1) -> 3.2578 | H256: =VLOOKUP(F255,$A$3:$C$254,3,1) -> 4.1275
F257: 41163 | G257: =VLOOKUP(F256,$A$3:$C$254,2,1) -> 3.2189 | H257: =VLOOKUP(F256,$A$3:$C$254,3,1) -> 4.1141
F258: 41164 | G258: =VLOOKUP(F257,$A$3:$C$254,2,1) -> 3.2098 | H258: =VLOOKUP(F257,$A$3:$C$254,3,1) -> 4.1085
F259: 41165 | G259: =VLOOKUP(F258,$A$3:$C$254,2,1) -> 3.168 | H259: =VLOOKUP(F258,$A$3:$C$254,3,1) -> 4.0801
F260: 41166 | G260: =VLOOKUP(F259,$A$3:$C$254,2,1) -> 3.1852 | H260: =VLOOKUP(F259,$A$3:$C$254,3,1) -> 4.1146
F261: 41167 | G261: =VLOOKUP(F260,$A$3:$C$254,2,1) -> 3.1131 | H261: =VLOOKUP(F260,$A$3:$C$254,3,1) -> 4.0584
F262: 41168 | G262: =VLOOKUP(F261,$A$3:$C$254,2,1) -> 3.1131 | H262: =VLOOKUP(F261,$A$3:$C$254,3,1) -> 4.0584
F263: 41169 | G263: =VLOOKUP(F262,$A$3:$C$254,2,1) -> 3.1131 | H263: =VLOOKUP(F262,$A$3:$C$254,3,1) -> 4.0584
F264: 41170 | G264: =VLOOKUP(F263,$A$3:$C$254,2,1) -> 3.1207 | H264: =VLOOKUP(F263,$A$3:$C$254,3,1) -> 4.0887
F265: 41171 | G265: =VLOOKUP(F264,$A$3:$C$254,2,1) -> 3.1509 | H265: =VLOOKUP(F264,$A$3:$C$254,3,1) -> 4.1217
F266: 41172 | G266: =VLOOKUP(F265,$A$3:$C$254,2,1) -> 3.1631 | H266: =VLOOKUP(F265,$A$3:$C$254,3,1) -> 4.1217
... F368: 41274 | G368: =VLOOKUP(F367,$A$3:$C$254,2,1) -> 3.0893 | H368: =VLOOKUP(F367,$A$3:$C$254,3,1) -> 4.0745

Sheet etap3 badanie EUR
A1: Dokument | B1: Data | C1: EUR | D1: Waluta | E1: PLN | F1: kurs | G1: ponowne przeliczenie | H1: test
A2: FSE-12/1/M | B2: 40918 | C2: 4492.8 | D2: EUR | E2: 20173.57 | F2: =VLOOKUP(B2,'etap2 - kursy bez luk'!$F$3:$H$368,3,0) -> 4.4902 | G2: =ROUND(C2*F2,2) -> 20173.57 | H2: =E2=G2 -> TRUE
A3: FSE-12/8/M | B3: 40935 | C3: 4091.88 | D3: EUR | E3: 17362.26 | F3: =VLOOKUP(B3,'etap2 - kursy bez luk'!$F$3:$H$368,3,0) -> 4.2431 | G3: =ROUND(C3*F3,2) -> 17362.26 | H3: =E3=G3 -> TRUE
A4: FSE-12/10/M | B4: 40935 | C4: 4560.15 | D4: EUR | E4: 19349.17 | F4: =VLOOKUP(B4,'etap2 - kursy bez luk'!$F$3:$H$368,3,0) -> 4.2431 | G4: =ROUND(C4*F4,2) -> 19349.17 | H4: =E4=G4 -> TRUE
A5: FSE-12/1/JM | B5: 40945 | C5: 3138.1 | D5: EUR | E5: 13158.68 | F5: =VLOOKUP(B5,'etap2 - kursy bez luk'!$F$3:$H$368,3,0) -> 4.1932 | G5: =ROUND(C5*F5,2) -> 13158.68 | H5: =E5=G5 -> TRUE
A6: FSE-12/2/JM | B6: 40953 | C6: 4553.01 | D6: EUR | E6: 19098.97 | F6: =VLOOKUP(B6,'etap2 - kursy bez luk'!$F$3:$H$368,3,0) -> 4.1948 | G6: =ROUND(C6*F6,2) -> 19098.97 | H6: =E6=G6 -> TRUE
A7: FSE-12/3/JM | B7: 40953 | C7: 6500.74 | D7: EUR | E7: 27269.3 | F7: =VLOOKUP(B7,'etap2 - kursy bez luk'!$F$3:$H$368,3,0) -> 4.1948 | G7: =ROUND(C7*F7,2) -> 27269.3 | H7: =E7=G7 -> TRUE
A8: FSE-12/4/JM | B8: 40953 | C8: 9720 | D8: EUR | E8: 40773.46 | F8: =VLOOKUP(B8,'etap2 - kursy bez luk'!$F$3:$H$368,3,0) -> 4.1948 | G8: =ROUND(C8*F8,2) -> 40773.46 | H8: =E8=G8 -> TRUE
A9: FSE-12/5/JM | B9: 40959 | C9: 2889.22 | D9: EUR | E9: 12088.5 | F9: =VLOOKUP(B9,'etap2 - kursy bez luk'!$F$3:$H$368,3,0) -> 4.184 | G9: =ROUND(C9*F9,2) -> 12088.5 | H9: =E9=G9 -> TRUE
A10: FSE-12/7/JM | B10: 40966 | C10: 3240 | D10: EUR | E10: 13495.9 | F10: =VLOOKUP(B10,'etap2 - kursy bez luk'!$F$3:$H$368,3,0) -> 4.1654 | G10: =ROUND(C10*F10,2) -> 13495.9 | H10: =E10=G10 -> TRUE
A11: FSE-12/8/JM | B11: 40966 | C11: 8802.49 | D11: EUR | E11: 36665.89 | F11: =VLOOKUP(B11,'etap2 - kursy bez luk'!$F$3:$H$368,3,0) -> 4.1654 | G11: =ROUND(C11*F11,2) -> 36665.89 | H11: =E11=G11 -> TRUE
A12: FSE-12/11/M | B12: 40940 | C12: 3957.72 | D12: EUR | E12: 16729.28 | F12: =VLOOKUP(B12,'etap2 - kursy bez luk'!$F$3:$H$368,3,0) -> 4.227 | G12: =ROUND(C12*F12,2) -> 16729.28 | H12: =E12=G12 -> TRUE
A13: FSE-12/12/M | B13: 40940 | C13: 18020.92 | D13: EUR | E13: 76174.43 | F13: =VLOOKUP(B13,'etap2 - kursy bez luk'!$F$3:$H$368,3,0) -> 4.227 | G13: =ROUND(C13*F13,2) -> 76174.43 | H13: =E13=G13 -> TRUE
... A281: FSE-12/329/M | B281: 41264 | C281: 6885.61 | D281: EUR | E281: 28034.76 | F281: =VLOOKUP(B281,'etap2 - kursy bez luk'!$F$3:$H$368,3,0) -> 4.0715 | G281: =ROUND(C281*F281,2) -> 28034.76 | H281: =E281=G281 -> TRUE

Sheet etap4 USD
A1: Dokument | B1: Data | C1: EUR | D1: Waluta | E1: PLN | F1: kurs | G1: ponowne przeliczenie | H1: test
A2: FSE-12/4/M | B2: 40932 | C2: 40199.25 | D2: USD | E2: 134076.56 | F2: =VLOOKUP(B2,'etap2 - kursy bez luk'!$F$3:$H$368,2,0) -> 3.3353 | G2: =ROUND(C2*F2,2) -> 134076.56 | H2: =E2=G2 -> TRUE
A3: FSE-12/6/JM | B3: 40962 | C3: 782.88 | D3: USD | E3: 2476.64 | F3: =VLOOKUP(B3,'etap2 - kursy bez luk'!$F$3:$H$368,2,0) -> 3.1635 | G3: =ROUND(C3*F3,2) -> 2476.64 | H3: =E3=G3 -> TRUE
A4: FSE-12/15/M | B4: 40942 | C4: 26365.5 | D4: USD | E4: 84250.96 | F4: =VLOOKUP(B4,'etap2 - kursy bez luk'!$F$3:$H$368,2,0) -> 3.1955 | G4: =ROUND(C4*F4,2) -> 84250.96 | H4: =E4=G4 -> TRUE
A5: FSE-12/32/M | B5: 40963 | C5: 10783.87 | D5: USD | E5: 33839.78 | F5: =VLOOKUP(B5,'etap2 - kursy bez luk'!$F$3:$H$368,2,0) -> 3.138 | G5: =ROUND(C5*F5,2) -> 33839.78 | H5: =E5=G5 -> TRUE
A6: FSE-12/40/M | B6: 40969 | C6: 47685.75 | D6: USD | E6: 146538.31 | F6: =VLOOKUP(B6,'etap2 - kursy bez luk'!$F$3:$H$368,2,0) -> 3.073 | G6: =ROUND(C6*F6,2) -> 146538.31 | H6: =E6=G6 -> TRUE
A7: FSE-12/42/M | B7: 40970 | C7: 9435.89 | D7: USD | E7: 29144.63 | F7: =VLOOKUP(B7,'etap2 - kursy bez luk'!$F$3:$H$368,2,0) -> 3.0887 | G7: =ROUND(C7*F7,2) -> 29144.63 | H7: =E7=G7 -> TRUE
A8: FSE-12/47/M | B8: 40980 | C8: 10783.87 | D8: USD | E8: 33565.87 | F8: =VLOOKUP(B8,'etap2 - kursy bez luk'!$F$3:$H$368,2,0) -> 3.1126 | G8: =ROUND(C8*F8,2) -> 33565.87 | H8: =E8=G8 -> TRUE
A9: FSE-12/55/M | B9: 40988 | C9: 10783.87 | D9: USD | E9: 33819.29 | F9: =VLOOKUP(B9,'etap2 - kursy bez luk'!$F$3:$H$368,2,0) -> 3.1361 | G9: =ROUND(C9*F9,2) -> 33819.29 | H9: =E9=G9 -> TRUE
A10: FSE-12/57/M | B10: 40989 | C10: 37595.25 | D10: USD | E10: 117628.02 | F10: =VLOOKUP(B10,'etap2 - kursy bez luk'!$F$3:$H$368,2,0) -> 3.1288 | G10: =ROUND(C10*F10,2) -> 117628.02 | H10: =E10=G10 -> TRUE
A11: FSE-12/64/M | B11: 40997 | C11: 10783.87 | D11: USD | E11: 33537.84 | F11: =VLOOKUP(B11,'etap2 - kursy bez luk'!$F$3:$H$368,2,0) -> 3.11 | G11: =ROUND(C11*F11,2) -> 33537.84 | H11: =E11=G11 -> TRUE
A12: FSE-12/15/JM | B12: 41016 | C12: 3518.72 | D12: USD | E12: 11361.6 | F12: =VLOOKUP(B12,'etap2 - kursy bez luk'!$F$3:$H$368,2,0) -> 3.2289 | G12: =ROUND(C12*F12,2) -> 11361.6 | H12: =E12=G12 -> TRUE
A13: FSE-12/71/M | B13: 41004 | C13: 26365.5 | D13: USD | E13: 83059.23 | F13: =VLOOKUP(B13,'etap2 - kursy bez luk'!$F$3:$H$368,2,0) -> 3.1503 | G13: =ROUND(C13*F13,2) -> 83059.23 | H13: =E13=G13 -> TRUE
... A71: FSE-12/327/M | B71: 41264 | C71: 11229.75 | D71: USD | E71: 34552.82 | F71: =VLOOKUP(B71,'etap2 - kursy bez luk'!$F$3:$H$368,2,0) -> 3.0769 | G71: =ROUND(C71*F71,2) -> 34552.82 | H71: =E71=G71 -> TRUE
